BEGIN:VCALENDAR
VERSION:2.0
PRODID:-//City of Moultrie - ECPv6.15.20//NONSGML v1.0//EN
CALSCALE:GREGORIAN
METHOD:PUBLISH
X-WR-CALNAME:City of Moultrie
X-ORIGINAL-URL:https://www.moultriega.com
X-WR-CALDESC:Events for City of Moultrie
REFRESH-INTERVAL;VALUE=DURATION:PT1H
X-Robots-Tag:noindex
X-PUBLISHED-TTL:PT1H
BEGIN:VTIMEZONE
TZID:UTC
BEGIN:STANDARD
TZOFFSETFROM:+0000
TZOFFSETTO:+0000
TZNAME:UTC
DTSTART:20230101T000000
END:STANDARD
END:VTIMEZONE
BEGIN:VEVENT
DTSTART;TZID=UTC:20241123T160000
DTEND;TZID=UTC:20241123T160000
DTSTAMP:20260423T140834
CREATED:20241011T131609Z
LAST-MODIFIED:20241011T131609Z
UID:9770-1732377600-1732377600@www.moultriega.com
SUMMARY:13th Annual Early Bird 50 at Needmore Speedway
DESCRIPTION:MARK YOUR CALENDARS!!! The 13th Annual Early Bird 50 November 21-23\, 2024. Its going to be an EPIC way to close out a great 2024 season$10\,000 to win Crate Racin’ USA 604s$2\,500 to win 602 Sportsman$2\,000 to win Street Stock$2\,000 to win Super Street$2\,000 to win Enduro/Factory Stock$750 to win Crown VicsRacers this is a perfect opportunity to get ready for the 2nd Annual Southern Heritage Classic on March 27-29\, and Fans after last years Early Bird racing you DONT WANT TO MISS IT!!! As we continue to pray for everyone in the south after recent storms\, we also hope to see everyone’s smiling faces again soon.
URL:https://www.moultriega.com/event/13th-annual-early-bird-50-at-needmore-speedway-2/
LOCATION:Needmore Speedway\, 1060 John Vickers Rd\, Norman Park\, GA\, 31771\, United States
END:VEVENT
END:VCALENDAR