BEGIN:VCALENDAR
VERSION:2.0
PRODID:-//City of Moultrie - ECPv6.15.20//NONSGML v1.0//EN
CALSCALE:GREGORIAN
METHOD:PUBLISH
X-WR-CALNAME:City of Moultrie
X-ORIGINAL-URL:https://www.moultriega.com
X-WR-CALDESC:Events for City of Moultrie
REFRESH-INTERVAL;VALUE=DURATION:PT1H
X-Robots-Tag:noindex
X-PUBLISHED-TTL:PT1H
BEGIN:VTIMEZONE
TZID:UTC
BEGIN:STANDARD
TZOFFSETFROM:+0000
TZOFFSETTO:+0000
TZNAME:UTC
DTSTART:20240101T000000
END:STANDARD
END:VTIMEZONE
BEGIN:VEVENT
DTSTART;TZID=UTC:20250607T093000
DTEND;TZID=UTC:20250607T093000
DTSTAMP:20260426T032612
CREATED:20250519T201403Z
LAST-MODIFIED:20250519T201403Z
UID:10732-1749288600-1749288600@www.moultriega.com
SUMMARY:5th Annual Poker Run Starts at Moultrie Starbucks
DESCRIPTION:Registration starts at 08:00-09:30 in Starbucks-Moultrie.$25 – per bike/vehicle (day of event)$20 – pre registration$10 – per rider/hand\nPlease see poster/flyer for more details.
URL:https://www.moultriega.com/event/5th-annual-poker-run-starts-at-moultrie-starbucks/
LOCATION:Moultrie Starbucks\, 511 N Veterans Pkwy\, Moultrie\, GA\, 31788\, United States
END:VEVENT
END:VCALENDAR