BEGIN:VCALENDAR
VERSION:2.0
PRODID:-//City of Moultrie - ECPv6.15.20//NONSGML v1.0//EN
CALSCALE:GREGORIAN
METHOD:PUBLISH
X-WR-CALNAME:City of Moultrie
X-ORIGINAL-URL:https://www.moultriega.com
X-WR-CALDESC:Events for City of Moultrie
REFRESH-INTERVAL;VALUE=DURATION:PT1H
X-Robots-Tag:noindex
X-PUBLISHED-TTL:PT1H
BEGIN:VTIMEZONE
TZID:UTC
BEGIN:STANDARD
TZOFFSETFROM:+0000
TZOFFSETTO:+0000
TZNAME:UTC
DTSTART:20230101T000000
END:STANDARD
END:VTIMEZONE
BEGIN:VEVENT
DTSTART;TZID=UTC:20241005T100000
DTEND;TZID=UTC:20241005T140000
DTSTAMP:20260419T143935
CREATED:20241001T182625Z
LAST-MODIFIED:20241001T182729Z
UID:9719-1728122400-1728136800@www.moultriega.com
SUMMARY:Halloween Buckets with Stephanie Garcia Art at The Ruffled Stork
DESCRIPTION:@shopclassickeepsakes will be at The Ruffled Stork THIS SATURDAY!! She will be doing Halloween Buckets in-store! They will have either pumpkins or ghost on them\, and you can choose whether you want to add a bow/name to it or not! These will be ready to take home with you SAME DAY! Mark your calendars and join us! More info is listed on the second slide!
URL:https://www.moultriega.com/event/9719/
LOCATION:The Ruffled Stork\, 122 South Main Street\, Moultrie\, GA\, 31768\, United States
END:VEVENT
END:VCALENDAR