BEGIN:VCALENDAR
VERSION:2.0
PRODID:-//City of Moultrie - ECPv6.15.20//NONSGML v1.0//EN
CALSCALE:GREGORIAN
METHOD:PUBLISH
X-WR-CALNAME:City of Moultrie
X-ORIGINAL-URL:https://www.moultriega.com
X-WR-CALDESC:Events for City of Moultrie
REFRESH-INTERVAL;VALUE=DURATION:PT1H
X-Robots-Tag:noindex
X-PUBLISHED-TTL:PT1H
BEGIN:VTIMEZONE
TZID:UTC
BEGIN:STANDARD
TZOFFSETFROM:+0000
TZOFFSETTO:+0000
TZNAME:UTC
DTSTART:20210101T000000
END:STANDARD
END:VTIMEZONE
BEGIN:VEVENT
DTSTART;TZID=UTC:20221213T170000
DTEND;TZID=UTC:20221213T200000
DTSTAMP:20260419T135515
CREATED:20221208T131501Z
LAST-MODIFIED:20221208T131501Z
UID:6901-1670950800-1670961600@www.moultriega.com
SUMMARY:A Night With Santa Cow at Chick-fil-A
DESCRIPTION:
URL:https://www.moultriega.com/event/a-night-with-santa-cow-at-chick-fil-a/
END:VEVENT
END:VCALENDAR