BEGIN:VCALENDAR
VERSION:2.0
PRODID:-//City of Moultrie - ECPv6.15.20//NONSGML v1.0//EN
CALSCALE:GREGORIAN
METHOD:PUBLISH
X-WR-CALNAME:City of Moultrie
X-ORIGINAL-URL:https://www.moultriega.com
X-WR-CALDESC:Events for City of Moultrie
REFRESH-INTERVAL;VALUE=DURATION:PT1H
X-Robots-Tag:noindex
X-PUBLISHED-TTL:PT1H
BEGIN:VTIMEZONE
TZID:UTC
BEGIN:STANDARD
TZOFFSETFROM:+0000
TZOFFSETTO:+0000
TZNAME:UTC
DTSTART:20240101T000000
END:STANDARD
END:VTIMEZONE
BEGIN:VEVENT
DTSTART;TZID=UTC:20251105T180000
DTEND;TZID=UTC:20251105T180000
DTSTAMP:20260424T020258
CREATED:20251029T143626Z
LAST-MODIFIED:20251029T143626Z
UID:11399-1762365600-1762365600@www.moultriega.com
SUMMARY:Boots & Brews Line Dancing at Bandwagon Brewing Company
DESCRIPTION: Bandwagon Brewing Co. – 33 W Central Ave\, Moultrie\, GA NEW DATE: Wednesday\, November 5th We get things started at 6 PM sharp!Moultrie fam\, it’s time to dust off those boots and hit the dance floor again—because Line Dancing Night is making its return to Bandwagon Brewing Co.!This free\, all-ages event is all about good energy\, great music\, and getting those feet movin’—whether you’re a total beginner or a seasoned stepper. No partner? No problem. We’ve got plenty of room for solo shuffles and group grooves. Note: Our line dancing queen Reaz won’t be able to join us this time—but don’t worry\, we’re still poppin’ those fans and bringing the fun! We’ll keep the moves flowing together\, and if we don’t know the steps—no stress—we’ll learn as we go.
URL:https://www.moultriega.com/event/boots-brews-line-dancing-at-bandwagon-brewing-company/
LOCATION:Bandwagon Brewing Company\, 33 West Central Ave.\, Moultrie\, GA\, 31768\, United States
END:VEVENT
END:VCALENDAR