BEGIN:VCALENDAR
VERSION:2.0
PRODID:-//City of Moultrie - ECPv6.15.20//NONSGML v1.0//EN
CALSCALE:GREGORIAN
METHOD:PUBLISH
X-WR-CALNAME:City of Moultrie
X-ORIGINAL-URL:https://www.moultriega.com
X-WR-CALDESC:Events for City of Moultrie
REFRESH-INTERVAL;VALUE=DURATION:PT1H
X-Robots-Tag:noindex
X-PUBLISHED-TTL:PT1H
BEGIN:VTIMEZONE
TZID:UTC
BEGIN:STANDARD
TZOFFSETFROM:+0000
TZOFFSETTO:+0000
TZNAME:UTC
DTSTART:20240101T000000
END:STANDARD
END:VTIMEZONE
BEGIN:VEVENT
DTSTART;TZID=UTC:20251206T090000
DTEND;TZID=UTC:20251206T110000
DTSTAMP:20260423T154501
CREATED:20251110T145520Z
LAST-MODIFIED:20251110T145520Z
UID:11428-1765011600-1765018800@www.moultriega.com
SUMMARY:Breakfast with Santa at Doerun Community Center
DESCRIPTION:Join Santa for breakfast. Admission is a canned good or non-perishable food item per person. These items will be used to assist families in need in our community.
URL:https://www.moultriega.com/event/breakfast-with-santa-at-doerun-community-center/
LOCATION:Doerun Community Center\, 207 West Broad Ave.\, Doerun\, GA\, 31744\, United States
END:VEVENT
END:VCALENDAR