BEGIN:VCALENDAR
VERSION:2.0
PRODID:-//City of Moultrie - ECPv6.15.20//NONSGML v1.0//EN
CALSCALE:GREGORIAN
METHOD:PUBLISH
X-WR-CALNAME:City of Moultrie
X-ORIGINAL-URL:https://www.moultriega.com
X-WR-CALDESC:Events for City of Moultrie
REFRESH-INTERVAL;VALUE=DURATION:PT1H
X-Robots-Tag:noindex
X-PUBLISHED-TTL:PT1H
BEGIN:VTIMEZONE
TZID:UTC
BEGIN:STANDARD
TZOFFSETFROM:+0000
TZOFFSETTO:+0000
TZNAME:UTC
DTSTART:20240101T000000
END:STANDARD
END:VTIMEZONE
BEGIN:VEVENT
DTSTART;TZID=UTC:20250605T100000
DTEND;TZID=UTC:20250605T120000
DTSTAMP:20260424T155435
CREATED:20250604T134029Z
LAST-MODIFIED:20250604T134029Z
UID:10889-1749117600-1749124800@www.moultriega.com
SUMMARY:Butterflies and Pollinators at William Bryant Park Pavilion
DESCRIPTION:Kids of all ages can explore the lifecycle of butterflies and understand how important they are to Agriculture. Participants will get to make a hands-on craft. This is a free event.
URL:https://www.moultriega.com/event/butterflies-and-pollinators-at-william-bryant-park-pavilion/
LOCATION:William Bryant Park\, 616 5th Ave NW\, Moultrie\, GA\, 31768\, United States
END:VEVENT
END:VCALENDAR