BEGIN:VCALENDAR
VERSION:2.0
PRODID:-//City of Moultrie - ECPv6.15.20//NONSGML v1.0//EN
CALSCALE:GREGORIAN
METHOD:PUBLISH
X-WR-CALNAME:City of Moultrie
X-ORIGINAL-URL:https://www.moultriega.com
X-WR-CALDESC:Events for City of Moultrie
REFRESH-INTERVAL;VALUE=DURATION:PT1H
X-Robots-Tag:noindex
X-PUBLISHED-TTL:PT1H
BEGIN:VTIMEZONE
TZID:UTC
BEGIN:STANDARD
TZOFFSETFROM:+0000
TZOFFSETTO:+0000
TZNAME:UTC
DTSTART:20230101T000000
END:STANDARD
END:VTIMEZONE
BEGIN:VEVENT
DTSTART;TZID=UTC:20240615T100000
DTEND;TZID=UTC:20240615T160000
DTSTAMP:20260425T204843
CREATED:20240610T135628Z
LAST-MODIFIED:20240610T135628Z
UID:9216-1718445600-1718467200@www.moultriega.com
SUMMARY:Celebrate Seven Years at The Flossy Peach
DESCRIPTION:SEVEN YEARS!!! How can it be?! We are so excited to be celebrating seven years of @theflossypeach in Downtown Moultrie (and nine in business) this weekend!! We are so blessed with the very best customers in the world\, and we can’t wait to celebrate with you this Saturday!!! Come enjoy our BRAND NEW custom Charm Bar\, Discounts\, Giveaways\, and so much more!!
URL:https://www.moultriega.com/event/celebrate-seven-years-at-the-flossy-peach/
LOCATION:The Flossy Peach\, 122 S Main St\, Moultrie\, GA\, 31776\, United States
END:VEVENT
END:VCALENDAR