BEGIN:VCALENDAR
VERSION:2.0
PRODID:-//City of Moultrie - ECPv6.15.20//NONSGML v1.0//EN
CALSCALE:GREGORIAN
METHOD:PUBLISH
X-WR-CALNAME:City of Moultrie
X-ORIGINAL-URL:https://www.moultriega.com
X-WR-CALDESC:Events for City of Moultrie
REFRESH-INTERVAL;VALUE=DURATION:PT1H
X-Robots-Tag:noindex
X-PUBLISHED-TTL:PT1H
BEGIN:VTIMEZONE
TZID:UTC
BEGIN:STANDARD
TZOFFSETFROM:+0000
TZOFFSETTO:+0000
TZNAME:UTC
DTSTART:20240101T000000
END:STANDARD
END:VTIMEZONE
BEGIN:VEVENT
DTSTART;TZID=UTC:20251119T180000
DTEND;TZID=UTC:20251119T200000
DTSTAMP:20260424T101156
CREATED:20251111T162543Z
LAST-MODIFIED:20251111T162543Z
UID:11449-1763575200-1763582400@www.moultriega.com
SUMMARY:Ceramic Mug with Brenda + Friends at Dustmade
DESCRIPTION:PRIVATE WORKSHOP FOR Brenda  + FRIENDS! \nContact Dustmade Studio about booking your private workshop today! \nCreate your own speckled pressed floral cup\, mug\, or vase in this hands-on workshop! You’ll hand-build your piece from clay and press dried flowers directly into the surface to create a delicate\, natural design. After shaping and decorating\, we’ll glaze and fire your piece. \nDate: Wednesday\, November 19th \nTime: 6 – 8pm \nLocation: Dustmade Studio. 120 South Main St. Moultrie\, GA 31768 \nDetails: \nThis is a one part workshop. \n*Pieces will be ready for pickup 1-2 weeks following workshop \n* Note * Once you have purchased a workshop ticket\, your spot is reserved and we are unable to refund or exchange your spot
URL:https://www.moultriega.com/event/ceramic-mug-with-brenda-friends-at-dustmade/
LOCATION:Dustmade Studio\, 1201 1st Street NE\, Moultrie\, GA\, 31768\, United States
END:VEVENT
END:VCALENDAR