BEGIN:VCALENDAR
VERSION:2.0
PRODID:-//City of Moultrie - ECPv6.15.20//NONSGML v1.0//EN
CALSCALE:GREGORIAN
METHOD:PUBLISH
X-WR-CALNAME:City of Moultrie
X-ORIGINAL-URL:https://www.moultriega.com
X-WR-CALDESC:Events for City of Moultrie
REFRESH-INTERVAL;VALUE=DURATION:PT1H
X-Robots-Tag:noindex
X-PUBLISHED-TTL:PT1H
BEGIN:VTIMEZONE
TZID:UTC
BEGIN:STANDARD
TZOFFSETFROM:+0000
TZOFFSETTO:+0000
TZNAME:UTC
DTSTART:20240101T000000
END:STANDARD
END:VTIMEZONE
BEGIN:VEVENT
DTSTART;TZID=UTC:20251121T210000
DTEND;TZID=UTC:20251122T000000
DTSTAMP:20260424T115959
CREATED:20251117T192504Z
LAST-MODIFIED:20251117T192504Z
UID:11501-1763758800-1763769600@www.moultriega.com
SUMMARY:Dinastia Night: DJ Victor at Bandwagon Brewing Company
DESCRIPTION:FRIDAY\, NOVEMBER 21st — Bandwagon is going LATE NIGHT!\nRight after Singo\, we’re turning down the lights\, turning up the energy\, and bringing in DJ Victor — El Inmortal — Dinastía Gil for a full-on party inside the brewery.\nIf you’ve seen his “DJ Victor Mix” and Dinastía Gil branding around Moultrie\, you already know the vibe: high energy\, crowd-moving\, dance-heavy sets that blend Latin\, hip hop\, and global party music. He’s known locally for keeping the dance floor alive and bringing that unmistakable Moultrie late-night sound.\n THE PARTY — 9PM to 12AM (or later!)Once Singo wraps up\, the music starts and we’re rolling deep into the night.DJ Victor will be spinning an electric mix of:• Hip Hop• Rap• R&B• 90’s Throwbacks• Dancehall• Reggaeton• House• Funk• Electronic & more\nIt’s the perfect mix for anyone who loves to dance\, vibe\, or just be part of a packed\, energetic late-night crowd.\n $10 Door ChargeYour cover helps support the DJ and keeps this high-energy\, late-night experience going strong in downtown Moultrie.\n FOOD TRUCK ON SITEGrab something delicious before you hit the dance floor.\n HoursParty starts at 9PMEnds at 12AM — but if the crowd is rocking\, we’re keeping the doors open later.\n***NO OUTSIDE ALCOHOL ALLOWED***Bandwagon offers over 20 different local craft beers+ fruity frozen hard seltzer slushee’s.
URL:https://www.moultriega.com/event/dinastia-night-dj-victor-at-bandwagon-brewing-company/
LOCATION:Bandwagon Brewing Company\, 33 West Central Ave.\, Moultrie\, GA\, 31768\, United States
END:VEVENT
END:VCALENDAR