BEGIN:VCALENDAR
VERSION:2.0
PRODID:-//City of Moultrie - ECPv6.15.20//NONSGML v1.0//EN
CALSCALE:GREGORIAN
METHOD:PUBLISH
X-WR-CALNAME:City of Moultrie
X-ORIGINAL-URL:https://www.moultriega.com
X-WR-CALDESC:Events for City of Moultrie
REFRESH-INTERVAL;VALUE=DURATION:PT1H
X-Robots-Tag:noindex
X-PUBLISHED-TTL:PT1H
BEGIN:VTIMEZONE
TZID:UTC
BEGIN:STANDARD
TZOFFSETFROM:+0000
TZOFFSETTO:+0000
TZNAME:UTC
DTSTART:20220101T000000
END:STANDARD
END:VTIMEZONE
BEGIN:VEVENT
DTSTART;TZID=UTC:20230228T163000
DTEND;TZID=UTC:20230228T190000
DTSTAMP:20260425T135221
CREATED:20230131T200653Z
LAST-MODIFIED:20230131T200653Z
UID:7172-1677601800-1677610800@www.moultriega.com
SUMMARY:Dusty's All Star Circus
DESCRIPTION:Wholesome family fun is coming to you!\nDusty’s All Star Circus is excited to present its encore tour in Moultrie\, GA this February 28th. Join our international all star cast at the Family Living Building for fun\, thrills and a whole lot of WOW moments that will have the entire family captivated!\nBuy online & save 50% off the box office price!\nUpcoming Showtimes:\nTue\, February 28 | 4:30pm & 7pm\nLocation: Family Living Building\n290-G Harper Blvd\, Moultrie\, GA\nA modern adaption of the classic American Circus in an intimate atmosphere.\nExperience the Circus up-close and personal.\nBOOK NOW | DustysCircus.com/tour-dates/
URL:https://www.moultriega.com/event/dustys-all-star-circus/
END:VEVENT
END:VCALENDAR