BEGIN:VCALENDAR
VERSION:2.0
PRODID:-//City of Moultrie - ECPv6.15.20//NONSGML v1.0//EN
CALSCALE:GREGORIAN
METHOD:PUBLISH
X-WR-CALNAME:City of Moultrie
X-ORIGINAL-URL:https://www.moultriega.com
X-WR-CALDESC:Events for City of Moultrie
REFRESH-INTERVAL;VALUE=DURATION:PT1H
X-Robots-Tag:noindex
X-PUBLISHED-TTL:PT1H
BEGIN:VTIMEZONE
TZID:UTC
BEGIN:STANDARD
TZOFFSETFROM:+0000
TZOFFSETTO:+0000
TZNAME:UTC
DTSTART:20210101T000000
END:STANDARD
END:VTIMEZONE
BEGIN:VEVENT
DTSTART;TZID=UTC:20220916T184500
DTEND;TZID=UTC:20220916T200000
DTSTAMP:20260426T002727
CREATED:20220914T195610Z
LAST-MODIFIED:20220914T195610Z
UID:6564-1663353900-1663358400@www.moultriega.com
SUMMARY:FAM JAM in September Heritage Church
DESCRIPTION:Fam Jam is a free event planned for families with elementary aged kids to come and have blast together!!! Each month we focus on a different character quality and this month we will be learning about TRUST. Join us for a night full of FUN\, FAITH\, AND FAMILY! Bring your friends!
URL:https://www.moultriega.com/event/fam-jam-in-september-heritage-church/
LOCATION:Heritage Church\, 844 GA Highway 33 S\, Moultrie\, GA\, 31788\, United States
END:VEVENT
END:VCALENDAR