BEGIN:VCALENDAR
VERSION:2.0
PRODID:-//City of Moultrie - ECPv6.15.20//NONSGML v1.0//EN
CALSCALE:GREGORIAN
METHOD:PUBLISH
X-WR-CALNAME:City of Moultrie
X-ORIGINAL-URL:https://www.moultriega.com
X-WR-CALDESC:Events for City of Moultrie
REFRESH-INTERVAL;VALUE=DURATION:PT1H
X-Robots-Tag:noindex
X-PUBLISHED-TTL:PT1H
BEGIN:VTIMEZONE
TZID:UTC
BEGIN:STANDARD
TZOFFSETFROM:+0000
TZOFFSETTO:+0000
TZNAME:UTC
DTSTART:20240101T000000
END:STANDARD
END:VTIMEZONE
BEGIN:VEVENT
DTSTART;TZID=UTC:20250724T180000
DTEND;TZID=UTC:20250724T200000
DTSTAMP:20260419T121417
CREATED:20250716T192700Z
LAST-MODIFIED:20250716T192700Z
UID:11032-1753380000-1753387200@www.moultriega.com
SUMMARY:Family Pool Day at SW Memorial Pool
DESCRIPTION:Join us at Southwest Memorial Pool for a cool evening in the pool. Hamburger/hotdog plate per person included. $10 per person.
URL:https://www.moultriega.com/event/family-pool-day-at-sw-memorial-pool/
LOCATION:SW Memorial Pool\, 1020 4th St SW\, Moultrie\, GA\, 31768\, United States
END:VEVENT
END:VCALENDAR