BEGIN:VCALENDAR
VERSION:2.0
PRODID:-//City of Moultrie - ECPv6.15.20//NONSGML v1.0//EN
CALSCALE:GREGORIAN
METHOD:PUBLISH
X-WR-CALNAME:City of Moultrie
X-ORIGINAL-URL:https://www.moultriega.com
X-WR-CALDESC:Events for City of Moultrie
REFRESH-INTERVAL;VALUE=DURATION:PT1H
X-Robots-Tag:noindex
X-PUBLISHED-TTL:PT1H
BEGIN:VTIMEZONE
TZID:UTC
BEGIN:STANDARD
TZOFFSETFROM:+0000
TZOFFSETTO:+0000
TZNAME:UTC
DTSTART:20230101T000000
END:STANDARD
END:VTIMEZONE
BEGIN:VEVENT
DTSTART;TZID=UTC:20240127T100000
DTEND;TZID=UTC:20240127T120000
DTSTAMP:20260424T052335
CREATED:20231221T201740Z
LAST-MODIFIED:20231221T201740Z
UID:8598-1706349600-1706356800@www.moultriega.com
SUMMARY:Fawn & Feathers at Ashburn Hill
DESCRIPTION:The VAA is proud to present the Second Annual Fawn & Feathers event\, where wildlife and art collide! Join us at Ashburn Hill Plantation from 10 am – 12 pm to participate in our family-friendly activities. Meet the well-trained bird dogs\, watch a demonstration featuring birds of prey\, and take a carriage ride! Also at this event\, take part in our large-scale art project to be put on auction during the Hunt Dinner. You don’t want to miss this hands-on day of fun! This event is for children grades preK-5th. TICKETS GO ON SALE JANUARY 1ST\, 2024\, and include a FAWN  FEATHERS TSHIRT!
URL:https://www.moultriega.com/event/fawn-feathers-at-ashburn-hill/
LOCATION:Ashburn Hill Plantation\, 1172 Lower Meigs Rd.\, Moultrie\, GA\, 31768\, United States
END:VEVENT
END:VCALENDAR