BEGIN:VCALENDAR
VERSION:2.0
PRODID:-//City of Moultrie - ECPv6.15.20//NONSGML v1.0//EN
CALSCALE:GREGORIAN
METHOD:PUBLISH
X-WR-CALNAME:City of Moultrie
X-ORIGINAL-URL:https://www.moultriega.com
X-WR-CALDESC:Events for City of Moultrie
REFRESH-INTERVAL;VALUE=DURATION:PT1H
X-Robots-Tag:noindex
X-PUBLISHED-TTL:PT1H
BEGIN:VTIMEZONE
TZID:UTC
BEGIN:STANDARD
TZOFFSETFROM:+0000
TZOFFSETTO:+0000
TZNAME:UTC
DTSTART:20210101T000000
END:STANDARD
END:VTIMEZONE
BEGIN:VEVENT
DTSTART;TZID=UTC:20221208T180000
DTEND;TZID=UTC:20221208T190000
DTSTAMP:20260423T172600
CREATED:20220228T160603Z
LAST-MODIFIED:20220228T161424Z
UID:5414-1670522400-1670526000@www.moultriega.com
SUMMARY:Festival of Lights Christmas Parade
DESCRIPTION:Witness our magical Festival of Lights Christmas Parade. This traditional parade is becoming known as one of the largest in South Georgia. The Christmas Parade is held on the 2nd Thursday in December every year. Bring your friends\, bring your chairs\, and come out and enjoy the show! \nThe Festival of Lights Christmas Parade begins at 6:00 PM. \nhttps://www.downtownmoultrie.com/events/christmas-parade/
URL:https://www.moultriega.com/event/festival-of-lights-christmas-parade-2/
END:VEVENT
END:VCALENDAR