BEGIN:VCALENDAR
VERSION:2.0
PRODID:-//City of Moultrie - ECPv6.15.20//NONSGML v1.0//EN
CALSCALE:GREGORIAN
METHOD:PUBLISH
X-WR-CALNAME:City of Moultrie
X-ORIGINAL-URL:https://www.moultriega.com
X-WR-CALDESC:Events for City of Moultrie
REFRESH-INTERVAL;VALUE=DURATION:PT1H
X-Robots-Tag:noindex
X-PUBLISHED-TTL:PT1H
BEGIN:VTIMEZONE
TZID:UTC
BEGIN:STANDARD
TZOFFSETFROM:+0000
TZOFFSETTO:+0000
TZNAME:UTC
DTSTART:20240101T000000
END:STANDARD
END:VTIMEZONE
BEGIN:VEVENT
DTSTART;TZID=UTC:20251031T203000
DTEND;TZID=UTC:20251031T203000
DTSTAMP:20260423T194639
CREATED:20251013T140524Z
LAST-MODIFIED:20251013T140524Z
UID:11291-1761942600-1761942600@www.moultriega.com
SUMMARY:Halloween Costume Party 2 Night Event at The Speakeasy on Main
DESCRIPTION:Can’t make it Friday? Come Saturday — or better yet\, party with us BOTH nights!\nWe’re celebrating Halloween all weekend long! \n\n\n Costume Party hosted by DJ TRACY HUNTER\n Best dressed wins a $30 bar tab!\n\n\nDon’t miss out on the spooky fun!
URL:https://www.moultriega.com/event/halloween-costume-party-2-night-event-at-the-speakeasy-on-main/
LOCATION:The Speakeasy on Main\, 14 S Main St\, Moultrie\, GA\, 31768\, United States
END:VEVENT
END:VCALENDAR