BEGIN:VCALENDAR
VERSION:2.0
PRODID:-//City of Moultrie - ECPv6.15.20//NONSGML v1.0//EN
CALSCALE:GREGORIAN
METHOD:PUBLISH
X-WR-CALNAME:City of Moultrie
X-ORIGINAL-URL:https://www.moultriega.com
X-WR-CALDESC:Events for City of Moultrie
REFRESH-INTERVAL;VALUE=DURATION:PT1H
X-Robots-Tag:noindex
X-PUBLISHED-TTL:PT1H
BEGIN:VTIMEZONE
TZID:UTC
BEGIN:STANDARD
TZOFFSETFROM:+0000
TZOFFSETTO:+0000
TZNAME:UTC
DTSTART:20240101T000000
END:STANDARD
END:VTIMEZONE
BEGIN:VEVENT
DTSTART;TZID=UTC:20250628T190000
DTEND;TZID=UTC:20250628T220000
DTSTAMP:20260424T084744
CREATED:20250626T134125Z
LAST-MODIFIED:20250626T134125Z
UID:10959-1751137200-1751148000@www.moultriega.com
SUMMARY:Heath Deloach at Bandwagon Brewing Company
DESCRIPTION:See you this Saturday night (6/28) at Bandwagon Brewing Company in Moultrie. 7-10!
URL:https://www.moultriega.com/event/heath-deloach-at-bandwagon-brewing-company-3/
LOCATION:Bandwagon Brewing Company\, 33 West Central Ave.\, Moultrie\, GA\, 31768\, United States
END:VEVENT
END:VCALENDAR