BEGIN:VCALENDAR
VERSION:2.0
PRODID:-//City of Moultrie - ECPv6.15.20//NONSGML v1.0//EN
CALSCALE:GREGORIAN
METHOD:PUBLISH
X-WR-CALNAME:City of Moultrie
X-ORIGINAL-URL:https://www.moultriega.com
X-WR-CALDESC:Events for City of Moultrie
REFRESH-INTERVAL;VALUE=DURATION:PT1H
X-Robots-Tag:noindex
X-PUBLISHED-TTL:PT1H
BEGIN:VTIMEZONE
TZID:UTC
BEGIN:STANDARD
TZOFFSETFROM:+0000
TZOFFSETTO:+0000
TZNAME:UTC
DTSTART:20230101T000000
END:STANDARD
END:VTIMEZONE
BEGIN:VEVENT
DTSTART;TZID=UTC:20241112T180000
DTEND;TZID=UTC:20241112T200000
DTSTAMP:20260423T184533
CREATED:20241108T160427Z
LAST-MODIFIED:20241108T160427Z
UID:9931-1731434400-1731441600@www.moultriega.com
SUMMARY:Hope for the Holidays at Hope House Women's Clinic
DESCRIPTION:Join us for a free event open to the community! Enjoy stress-relieving activities\, connect with others\, and have a great time. Light refreshments will be served. Email anna@hopehousecares.org for more information or to RSVP.
URL:https://www.moultriega.com/event/hope-for-the-holidays-at-hope-house-womens-clinic/
LOCATION:Hope House Women’s Clinic\, 716 5th Ave. SE\, Moultrie\, GA\, 31768\, United States
END:VEVENT
END:VCALENDAR