BEGIN:VCALENDAR
VERSION:2.0
PRODID:-//City of Moultrie - ECPv6.15.20//NONSGML v1.0//EN
CALSCALE:GREGORIAN
METHOD:PUBLISH
X-WR-CALNAME:City of Moultrie
X-ORIGINAL-URL:https://www.moultriega.com
X-WR-CALDESC:Events for City of Moultrie
REFRESH-INTERVAL;VALUE=DURATION:PT1H
X-Robots-Tag:noindex
X-PUBLISHED-TTL:PT1H
BEGIN:VTIMEZONE
TZID:UTC
BEGIN:STANDARD
TZOFFSETFROM:+0000
TZOFFSETTO:+0000
TZNAME:UTC
DTSTART:20230101T000000
END:STANDARD
END:VTIMEZONE
BEGIN:VEVENT
DTSTART;TZID=UTC:20240202T183000
DTEND;TZID=UTC:20240202T183000
DTSTAMP:20260424T025957
CREATED:20231221T202914Z
LAST-MODIFIED:20231221T202914Z
UID:8602-1706898600-1706898600@www.moultriega.com
SUMMARY:Hunt Dinner at The Arts Center
DESCRIPTION:Join us for the most anticipated event of the year\, the 32nd Annual Hunt Dinner and Auction. Guests attending the auction in person will enjoy a delicious seated dinner provided by JB Crumbs\, a full bar\, and the opportunity to bid in both our silent and live auctions. Past prizes include original works of fine art\, exclusive chef tables\, and coastal vacation packages. \nThis year\, all silent auction items will be listed in our online catalog. Bid from the comfort of your home or on the go\, all you have to do is register! We encourage all guests to pre-register to preview items up for sale and beat the crowds. Silent Auction online bidding will open on February2nd at 5:00pm and end same day at 8:30pm. \nTICKETS GO ON SALE JANUARY 1ST\, 2024. \nThe 32nd Annual Hunt Dinner is proudly sponsored by Ameris Bank.
URL:https://www.moultriega.com/event/hunt-dinner-at-the-arts-center/
LOCATION:The Arts Center\, 401 7th Avenue S.W.\, Moultrie\, GA\, 31768\, United States
END:VEVENT
END:VCALENDAR