BEGIN:VCALENDAR
VERSION:2.0
PRODID:-//City of Moultrie - ECPv6.15.20//NONSGML v1.0//EN
CALSCALE:GREGORIAN
METHOD:PUBLISH
X-WR-CALNAME:City of Moultrie
X-ORIGINAL-URL:https://www.moultriega.com
X-WR-CALDESC:Events for City of Moultrie
REFRESH-INTERVAL;VALUE=DURATION:PT1H
X-Robots-Tag:noindex
X-PUBLISHED-TTL:PT1H
BEGIN:VTIMEZONE
TZID:UTC
BEGIN:STANDARD
TZOFFSETFROM:+0000
TZOFFSETTO:+0000
TZNAME:UTC
DTSTART:20240101T000000
END:STANDARD
END:VTIMEZONE
BEGIN:VEVENT
DTSTART;TZID=UTC:20250623T143000
DTEND;TZID=UTC:20250623T143000
DTSTAMP:20260424T111541
CREATED:20250522T130358Z
LAST-MODIFIED:20250522T130358Z
UID:10775-1750689000-1750689000@www.moultriega.com
SUMMARY:La Candela Flamenco at Doerun Library
DESCRIPTION:“The Colors of Flamenco” is an engaging and visually dynamic performance that explores the richness of flamenco through its vibrant costumes\, accessories\, and expressive movements.
URL:https://www.moultriega.com/event/la-candela-flamenco-at-doerun-library/
LOCATION:Doerun Library\, 185 N Freeman Street\, Doerun\, GA\, 31744\, United States
END:VEVENT
END:VCALENDAR