BEGIN:VCALENDAR
VERSION:2.0
PRODID:-//City of Moultrie - ECPv6.15.20//NONSGML v1.0//EN
CALSCALE:GREGORIAN
METHOD:PUBLISH
X-WR-CALNAME:City of Moultrie
X-ORIGINAL-URL:https://www.moultriega.com
X-WR-CALDESC:Events for City of Moultrie
REFRESH-INTERVAL;VALUE=DURATION:PT1H
X-Robots-Tag:noindex
X-PUBLISHED-TTL:PT1H
BEGIN:VTIMEZONE
TZID:UTC
BEGIN:STANDARD
TZOFFSETFROM:+0000
TZOFFSETTO:+0000
TZNAME:UTC
DTSTART:20240101T000000
END:STANDARD
END:VTIMEZONE
BEGIN:VEVENT
DTSTART;TZID=UTC:20251002T164500
DTEND;TZID=UTC:20251002T173000
DTSTAMP:20260423T150149
CREATED:20250915T181626Z
LAST-MODIFIED:20250915T181626Z
UID:11196-1759423500-1759426200@www.moultriega.com
SUMMARY:Let’s Create “Paint A Canvas” Session 2 at Shaw Gym
DESCRIPTION: Let’s Create! Paint a Canvas Unleash your inner artist! Join us for a fun\, hands-on workshop where you’ll paint your very own canvas to take home. No experience needed—just bring your creativity and enjoy!  Date: October 2nd Time: (2 sessions) 4:00 – 4:45 and 4:45 – 5:30 PM Location: Shaw Gym Craft Room Cost: FREE!This event is made possible through a grant from the Georgia Council for the Arts. Pre-registration required: https://mccpra.recdesk.com/Community/Program
URL:https://www.moultriega.com/event/lets-create-paint-a-canvas-session-2-at-shaw-gym/
LOCATION:Shaw Gymnasium\, 615 5th Avenue NW\, Moultrie\, GA\, 31768\, United States
END:VEVENT
END:VCALENDAR