BEGIN:VCALENDAR
VERSION:2.0
PRODID:-//City of Moultrie - ECPv6.15.20//NONSGML v1.0//EN
CALSCALE:GREGORIAN
METHOD:PUBLISH
X-WR-CALNAME:City of Moultrie
X-ORIGINAL-URL:https://www.moultriega.com
X-WR-CALDESC:Events for City of Moultrie
REFRESH-INTERVAL;VALUE=DURATION:PT1H
X-Robots-Tag:noindex
X-PUBLISHED-TTL:PT1H
BEGIN:VTIMEZONE
TZID:UTC
BEGIN:STANDARD
TZOFFSETFROM:+0000
TZOFFSETTO:+0000
TZNAME:UTC
DTSTART:20240101T000000
END:STANDARD
END:VTIMEZONE
BEGIN:VEVENT
DTSTART;TZID=UTC:20251114T100000
DTEND;TZID=UTC:20251114T110000
DTSTAMP:20260424T100332
CREATED:20251111T160726Z
LAST-MODIFIED:20251111T160726Z
UID:11445-1763114400-1763118000@www.moultriega.com
SUMMARY:Little Makers: Turkey Bowl Workshop at Dustmade
DESCRIPTION:A Thanksgiving keepsake you’ll treasure forever! In this workshop\, kids will create their very own turkey bowl\, complete with a tail made from their handprint! Little makers will shape\, decorate\, and glaze their bowls. Each piece will be a one-of-a-kind memory to pull out year after year for the holidays! \nDate: Friday\, November 14th \nTime: 10 – 11ish am EST \nLocation: Dustmade Studio\, 120 S Main St\, Moultrie\, GA 31768 \nDetails: \nThis is a one-part workshop. \n*Your piece will be ready for pickup 1-2 weeks after workshop \n* Note * Once you have purchased a workshop ticket\, your spot is reserved and we are unable to refund or exchange your spot. \nUse code “BESTIES” when you register for 2+ spots to save $10!
URL:https://www.moultriega.com/event/little-makers-turkey-bowl-workshop-at-dustmade/
LOCATION:Dustmade Studio\, 1201 1st Street NE\, Moultrie\, GA\, 31768\, United States
END:VEVENT
END:VCALENDAR