BEGIN:VCALENDAR
VERSION:2.0
PRODID:-//City of Moultrie - ECPv6.15.20//NONSGML v1.0//EN
CALSCALE:GREGORIAN
METHOD:PUBLISH
X-WR-CALNAME:City of Moultrie
X-ORIGINAL-URL:https://www.moultriega.com
X-WR-CALDESC:Events for City of Moultrie
REFRESH-INTERVAL;VALUE=DURATION:PT1H
X-Robots-Tag:noindex
X-PUBLISHED-TTL:PT1H
BEGIN:VTIMEZONE
TZID:UTC
BEGIN:STANDARD
TZOFFSETFROM:+0000
TZOFFSETTO:+0000
TZNAME:UTC
DTSTART:20240101T000000
END:STANDARD
END:VTIMEZONE
BEGIN:VEVENT
DTSTART;TZID=UTC:20251025T140000
DTEND;TZID=UTC:20251025T160000
DTSTAMP:20260426T031903
CREATED:20250915T180612Z
LAST-MODIFIED:20250915T180612Z
UID:11190-1761400800-1761408000@www.moultriega.com
SUMMARY:MCCPRA Bike Rodeo at Main Street Park
DESCRIPTION: Bike Donations Needed for the Bike Rodeo! We’re getting ready for the Bike Rodeo on Saturday\, October 25th from 2–4 PM at Main Street Park—and we need your help!We’re accepting bike donations at the MCCPRA office (1020 4th Street SW\, Mon–Fri\, 8 AM–5 PM). Our partners with the Colquitt County Cycling Club will refurbish these bikes and give them to children who don’t have one.  At the Bike Rodeo\, kids will: Learn bike safety from the pros Enjoy door prize drawings  Have the chance to ride away with new skills (and maybe even a refurbished bike!) Don’t forget—bring your bike and helmet to participate! Pre-registration is required.Let’s work together to get more kids rolling safely! https://mccpra.recdesk.com/Community/Program/Detail…
URL:https://www.moultriega.com/event/mccpra-bike-rodeo-at-main-street-park/
LOCATION:Main Street Park\, 1220 South Main Street\, Moultrie\, GA\, 31768\, United States
END:VEVENT
END:VCALENDAR