BEGIN:VCALENDAR
VERSION:2.0
PRODID:-//City of Moultrie - ECPv6.15.20//NONSGML v1.0//EN
CALSCALE:GREGORIAN
METHOD:PUBLISH
X-WR-CALNAME:City of Moultrie
X-ORIGINAL-URL:https://www.moultriega.com
X-WR-CALDESC:Events for City of Moultrie
REFRESH-INTERVAL;VALUE=DURATION:PT1H
X-Robots-Tag:noindex
X-PUBLISHED-TTL:PT1H
BEGIN:VTIMEZONE
TZID:UTC
BEGIN:STANDARD
TZOFFSETFROM:+0000
TZOFFSETTO:+0000
TZNAME:UTC
DTSTART:20230101T000000
END:STANDARD
END:VTIMEZONE
BEGIN:VEVENT
DTSTART;TZID=UTC:20241220T093000
DTEND;TZID=UTC:20241220T093000
DTSTAMP:20260425T135103
CREATED:20241203T172210Z
LAST-MODIFIED:20241203T172210Z
UID:10013-1734687000-1734687000@www.moultriega.com
SUMMARY:Morning at The Movies with Dr. Daphne at GTC Moultrie Cinemas
DESCRIPTION:Mark your calendars for our annual “Morning at the Movies” on Friday\, December 20th! Join Dr. Daphne Mlachila\, pediatrician with Sterling Group Primary Care\, for a morning of entertainment and holiday cheer. We will be screening Moana 2\, ELF\, and How The Grinch Stole Christmas! Doors will open at 9:30 AM. Admission is $5 and includes your ticket to the movie\, popcorn\, and a drink. All proceeds will benefit the the pediatric unit at Colquitt Regional Medical Center! TICKETS MUST BE PURCHASED IN ADVANCE\, LIMITED SEATING AVAILABLE. Buy your tickets here https://form.jotform.com/243254096628159
URL:https://www.moultriega.com/event/morning-at-the-movies-with-dr-daphne-at-gtc-moultrie-cinemas/
LOCATION:GTC Moultrie Cinemas\, 495 Hampton Way NE\, Moultrie\, GA\, 31788\, United States
END:VEVENT
END:VCALENDAR