BEGIN:VCALENDAR
VERSION:2.0
PRODID:-//City of Moultrie - ECPv6.15.20//NONSGML v1.0//EN
CALSCALE:GREGORIAN
METHOD:PUBLISH
X-WR-CALNAME:City of Moultrie
X-ORIGINAL-URL:https://www.moultriega.com
X-WR-CALDESC:Events for City of Moultrie
REFRESH-INTERVAL;VALUE=DURATION:PT1H
X-Robots-Tag:noindex
X-PUBLISHED-TTL:PT1H
BEGIN:VTIMEZONE
TZID:UTC
BEGIN:STANDARD
TZOFFSETFROM:+0000
TZOFFSETTO:+0000
TZNAME:UTC
DTSTART:20180101T000000
END:STANDARD
END:VTIMEZONE
BEGIN:VEVENT
DTSTART;TZID=UTC:20191109T100000
DTEND;TZID=UTC:20191109T213000
DTSTAMP:20260423T135802
CREATED:20191008T123101Z
LAST-MODIFIED:20191015T131732Z
UID:3215-1573293600-1573335000@www.moultriega.com
SUMMARY:Music Under The Magnolia Downtown Jamboree
DESCRIPTION:Downtown Sidewalk Sales 10:00 a.m. – 5:00 p.m. Join participating Downtown Merchants for great sidewalk sales.\n\n\n\nMoultrie Chili Cook-Off Sponsored by Masonic Lodge #381  You be the Judge! People’s Choice judging begins at 12:00 p.m. – 2:00 p.m.  Proceeds will benefit the Colquitt Count Boys & Girls Club.  Want to be a contestant in the Chili cook-off?  Contact Ron at 229-526-0163 or Bobby at 229-850-7409.\nCornhole Tournament Sponsored by Masonic Lodge #381 Signup at 1:00 p.m. Tournament at 2:00 p.m. Proceeds will benefit the Colquitt Count Boys & Girls Club.\n\n\n\nMusic Under the Magnolia Concert  7:00 p.m. – 9:30 p.m. | Free  Join us on the Courthouse Square for an evening of Entertainment featuring The Tams.\n\nClick here to view this event on Facebook
URL:https://www.moultriega.com/event/music-under-the-magnotia-downtown-jamboree/
LOCATION:Downtown Moultrie
END:VEVENT
END:VCALENDAR