BEGIN:VCALENDAR
VERSION:2.0
PRODID:-//City of Moultrie - ECPv6.15.20//NONSGML v1.0//EN
CALSCALE:GREGORIAN
METHOD:PUBLISH
X-WR-CALNAME:City of Moultrie
X-ORIGINAL-URL:https://www.moultriega.com
X-WR-CALDESC:Events for City of Moultrie
REFRESH-INTERVAL;VALUE=DURATION:PT1H
X-Robots-Tag:noindex
X-PUBLISHED-TTL:PT1H
BEGIN:VTIMEZONE
TZID:UTC
BEGIN:STANDARD
TZOFFSETFROM:+0000
TZOFFSETTO:+0000
TZNAME:UTC
DTSTART:20210101T000000
END:STANDARD
END:VTIMEZONE
BEGIN:VEVENT
DTSTART;TZID=UTC:20220513T140000
DTEND;TZID=UTC:20220513T230000
DTSTAMP:20260425T134429
CREATED:20220315T144113Z
LAST-MODIFIED:20220426T121823Z
UID:5609-1652450400-1652482800@www.moultriega.com
SUMMARY:Practice Needmore Speedway Gene Maine Memorial Race-$10\,000 CRUSA 604 LM
DESCRIPTION: 
URL:https://www.moultriega.com/event/needmore-speedway-gene-maine-memorial-race-100000-crusa-604-lm/
END:VEVENT
END:VCALENDAR