BEGIN:VCALENDAR
VERSION:2.0
PRODID:-//City of Moultrie - ECPv6.15.20//NONSGML v1.0//EN
CALSCALE:GREGORIAN
METHOD:PUBLISH
X-WR-CALNAME:City of Moultrie
X-ORIGINAL-URL:https://www.moultriega.com
X-WR-CALDESC:Events for City of Moultrie
REFRESH-INTERVAL;VALUE=DURATION:PT1H
X-Robots-Tag:noindex
X-PUBLISHED-TTL:PT1H
BEGIN:VTIMEZONE
TZID:UTC
BEGIN:STANDARD
TZOFFSETFROM:+0000
TZOFFSETTO:+0000
TZNAME:UTC
DTSTART:20240101T000000
END:STANDARD
END:VTIMEZONE
BEGIN:VEVENT
DTSTART;TZID=UTC:20250101T120000
DTEND;TZID=UTC:20250101T120000
DTSTAMP:20260423T144114
CREATED:20241226T192629Z
LAST-MODIFIED:20241226T192629Z
UID:10121-1735732800-1735732800@www.moultriega.com
SUMMARY:New Years Day! Food and Football at Bandwagon Brewing Company
DESCRIPTION: Start 2025 the right way—at Bandwagon Brewing Co.!\nWe’re open on New Year’s Day with special hours: 12 PM until the end of the Sugar Bowl\, where Georgia takes the field! \n From 4 PM to 10 PM\, enjoy amazing catered food from the one and only Creole Sol\, bringing bold flavors straight from New Orleans via Valdosta. \nLet’s start the year with good vibes\, great food\, and the best beer around.  \n Make plans to join us—we can’t wait to see you there!
URL:https://www.moultriega.com/event/new-years-day-food-and-football-at-bandwagon-brewing-company/
LOCATION:Bandwagon Brewing Company\, 33 West Central Ave.\, Moultrie\, GA\, 31768\, United States
END:VEVENT
END:VCALENDAR