BEGIN:VCALENDAR
VERSION:2.0
PRODID:-//City of Moultrie - ECPv6.15.20//NONSGML v1.0//EN
CALSCALE:GREGORIAN
METHOD:PUBLISH
X-WR-CALNAME:City of Moultrie
X-ORIGINAL-URL:https://www.moultriega.com
X-WR-CALDESC:Events for City of Moultrie
REFRESH-INTERVAL;VALUE=DURATION:PT1H
X-Robots-Tag:noindex
X-PUBLISHED-TTL:PT1H
BEGIN:VTIMEZONE
TZID:UTC
BEGIN:STANDARD
TZOFFSETFROM:+0000
TZOFFSETTO:+0000
TZNAME:UTC
DTSTART:20240101T000000
END:STANDARD
END:VTIMEZONE
BEGIN:VEVENT
DTSTART;TZID=UTC:20251113T180000
DTEND;TZID=UTC:20251113T190000
DTSTAMP:20260424T120625
CREATED:20251112T182107Z
LAST-MODIFIED:20251112T182107Z
UID:11465-1763056800-1763060400@www.moultriega.com
SUMMARY:Opening Reception Events at The Arts Center
DESCRIPTION: The #HolidayMarket is almost open for business! Join us Thursday\, November 13th\, for the Holiday Market Opening Reception!  The VIP Member Preview begins at 5:30 — don’t forget to bring your membership card to receive a Holiday Market signature cocktail! The Holiday Market doors open to the public at 6:00\, and you don’t want to miss your chance at the beautiful one-of-a-kind fine arts and crafts available for purchase.Then\, join us on Friday\, November 14th\, for coffee and refreshments — and to learn more about Arts Center Membership! Plus\, anyone who signs up to become a member during the Opening Reception OR the New-Member Drop-In will receive 30% off any one item purchased from the Holiday Market during these events! Visit our website at moultriearts.org/membership to learn more!
URL:https://www.moultriega.com/event/opening-reception-events-at-the-arts-center/
LOCATION:The Arts Center\, 401 7th Avenue S.W.\, Moultrie\, GA\, 31768\, United States
END:VEVENT
END:VCALENDAR