BEGIN:VCALENDAR
VERSION:2.0
PRODID:-//City of Moultrie - ECPv6.15.20//NONSGML v1.0//EN
CALSCALE:GREGORIAN
METHOD:PUBLISH
X-WR-CALNAME:City of Moultrie
X-ORIGINAL-URL:https://www.moultriega.com
X-WR-CALDESC:Events for City of Moultrie
REFRESH-INTERVAL;VALUE=DURATION:PT1H
X-Robots-Tag:noindex
X-PUBLISHED-TTL:PT1H
BEGIN:VTIMEZONE
TZID:UTC
BEGIN:STANDARD
TZOFFSETFROM:+0000
TZOFFSETTO:+0000
TZNAME:UTC
DTSTART:20210101T000000
END:STANDARD
END:VTIMEZONE
BEGIN:VEVENT
DTSTART;TZID=UTC:20221119T140000
DTEND;TZID=UTC:20221119T140000
DTSTAMP:20260424T155259
CREATED:20221114T185617Z
LAST-MODIFIED:20221114T185617Z
UID:6840-1668866400-1668866400@www.moultriega.com
SUMMARY:PETER PAN\, JR at The Arts Center
DESCRIPTION:PETER PAN\, JR takes the stage this Saturday and Sunday at 2 PM. The Friday night performance has been cancelled due to the Packer Football Game here that night. GO PACK!!!\nAll tickets are $10 and the show has about an hour and half run so it is perfect for first time theater goers!
URL:https://www.moultriega.com/event/peter-pan-jr-at-the-arts-center/
LOCATION:The Arts Center\, 401 7th Avenue S.W.\, Moultrie\, GA\, 31768\, United States
END:VEVENT
END:VCALENDAR