BEGIN:VCALENDAR
VERSION:2.0
PRODID:-//City of Moultrie - ECPv6.15.20//NONSGML v1.0//EN
CALSCALE:GREGORIAN
METHOD:PUBLISH
X-WR-CALNAME:City of Moultrie
X-ORIGINAL-URL:https://www.moultriega.com
X-WR-CALDESC:Events for City of Moultrie
REFRESH-INTERVAL;VALUE=DURATION:PT1H
X-Robots-Tag:noindex
X-PUBLISHED-TTL:PT1H
BEGIN:VTIMEZONE
TZID:UTC
BEGIN:STANDARD
TZOFFSETFROM:+0000
TZOFFSETTO:+0000
TZNAME:UTC
DTSTART:20240101T000000
END:STANDARD
END:VTIMEZONE
BEGIN:VEVENT
DTSTART;TZID=UTC:20250602T100000
DTEND;TZID=UTC:20250602T120000
DTSTAMP:20260424T065007
CREATED:20250521T165628Z
LAST-MODIFIED:20250521T165628Z
UID:10738-1748858400-1748865600@www.moultriega.com
SUMMARY:Pete's Colorful Kickoff at Moultrie Library
DESCRIPTION:Drop by Bert Harsh Park between 10:00 a.m. and 12:00 p.m. to retrace Pete the Cat’s steps\, getting covered with colored powders along the way. Dress for mess and water play.
URL:https://www.moultriega.com/event/petes-colorful-kickoff-at-moultrie-library/
LOCATION:Moultrie-Colquitt County Library System\, 204 5th St SE\, Moultrie\, GA\, 31768\, United States
END:VEVENT
END:VCALENDAR