BEGIN:VCALENDAR
VERSION:2.0
PRODID:-//City of Moultrie - ECPv6.15.20//NONSGML v1.0//EN
CALSCALE:GREGORIAN
METHOD:PUBLISH
X-WR-CALNAME:City of Moultrie
X-ORIGINAL-URL:https://www.moultriega.com
X-WR-CALDESC:Events for City of Moultrie
REFRESH-INTERVAL;VALUE=DURATION:PT1H
X-Robots-Tag:noindex
X-PUBLISHED-TTL:PT1H
BEGIN:VTIMEZONE
TZID:UTC
BEGIN:STANDARD
TZOFFSETFROM:+0000
TZOFFSETTO:+0000
TZNAME:UTC
DTSTART:20240101T000000
END:STANDARD
END:VTIMEZONE
BEGIN:VEVENT
DTSTART;TZID=UTC:20250201T100000
DTEND;TZID=UTC:20250201T100000
DTSTAMP:20260423T165055
CREATED:20241218T174140Z
LAST-MODIFIED:20241218T174140Z
UID:10083-1738404000-1738404000@www.moultriega.com
SUMMARY:Power Wheels Derby at Jim Buck Goff Complex
DESCRIPTION: Power Wheels Derby – Start Your Engines! \nGot a new set of Power Wheels for Christmas? Let’s put them to the test! Join us for the Power Wheels Derby at the Jim Buck Goff Complex on Saturday\, February 1st.\n Who Can Enter?Kids ages 2-7 ready to cruise\, race\, and have a blast!\n What to Expect:\nA fun driving test to get their official driver’s license A thrilling race to the finish line in their Power Wheels Smiles\, cheers\, and memories to last all year!  When: Saturday\, February 1st Where: Jim Buck Goff Complex Bring your stock Power Wheels and your little driver!\n#PowerWheelsDerby #KidsEvent #StartYourEngines #FamilyFun #JimBuckGoffComplex
URL:https://www.moultriega.com/event/power-wheels-derby-at-jim-buck-goff-complex/
LOCATION:Jim Buck Goff Recreation Complex\, 5th ST SW & 11th AVE SW\, Moultrie\, GA\, 31776\, United States
END:VEVENT
END:VCALENDAR