BEGIN:VCALENDAR
VERSION:2.0
PRODID:-//City of Moultrie - ECPv6.15.20//NONSGML v1.0//EN
CALSCALE:GREGORIAN
METHOD:PUBLISH
X-WR-CALNAME:City of Moultrie
X-ORIGINAL-URL:https://www.moultriega.com
X-WR-CALDESC:Events for City of Moultrie
REFRESH-INTERVAL;VALUE=DURATION:PT1H
X-Robots-Tag:noindex
X-PUBLISHED-TTL:PT1H
BEGIN:VTIMEZONE
TZID:UTC
BEGIN:STANDARD
TZOFFSETFROM:+0000
TZOFFSETTO:+0000
TZNAME:UTC
DTSTART:20160101T000000
END:STANDARD
END:VTIMEZONE
BEGIN:VEVENT
DTSTART;TZID=UTC:20170626T110000
DTEND;TZID=UTC:20170626T233000
DTSTAMP:20260425T123647
CREATED:20170607T121530Z
LAST-MODIFIED:20170607T121530Z
UID:1632-1498474800-1498519800@www.moultriega.com
SUMMARY:Ribbon Cutting for Beans & Strings (CRMC)
DESCRIPTION:Ribbon cutting will take place at 3131 S Main St\, Moultrie\, GA
URL:https://www.moultriega.com/event/ribbon-cutting-for-beans-strings-crmc/
LOCATION:Beans & Strings (CRMC)\, 3131 S Main St\, Moultrie\, GA\, 31776\, United States
END:VEVENT
END:VCALENDAR