BEGIN:VCALENDAR
VERSION:2.0
PRODID:-//City of Moultrie - ECPv6.15.20//NONSGML v1.0//EN
CALSCALE:GREGORIAN
METHOD:PUBLISH
X-WR-CALNAME:City of Moultrie
X-ORIGINAL-URL:https://www.moultriega.com
X-WR-CALDESC:Events for City of Moultrie
REFRESH-INTERVAL;VALUE=DURATION:PT1H
X-Robots-Tag:noindex
X-PUBLISHED-TTL:PT1H
BEGIN:VTIMEZONE
TZID:UTC
BEGIN:STANDARD
TZOFFSETFROM:+0000
TZOFFSETTO:+0000
TZNAME:UTC
DTSTART:20240101T000000
END:STANDARD
END:VTIMEZONE
BEGIN:VEVENT
DTSTART;TZID=UTC:20250620T090000
DTEND;TZID=UTC:20250620T090000
DTSTAMP:20260424T124713
CREATED:20250612T183333Z
LAST-MODIFIED:20250612T183333Z
UID:10931-1750410000-1750410000@www.moultriega.com
SUMMARY:Ribbon Cutting for Só Dança
DESCRIPTION:We’re excited to invite you to a ribbon cutting ceremony celebrating Só Dança! This event will take place on Friday\, June 20th @9AM.  Come out to show your support\, meet the team\, and help us officially welcome them #TeamChamber! See you there!
URL:https://www.moultriega.com/event/ribbon-cutting-for-so-danca/
LOCATION:Só Dança\, 209 3rs Street NE\, Moultrie\, GA\, 31768\, United States
END:VEVENT
END:VCALENDAR