BEGIN:VCALENDAR
VERSION:2.0
PRODID:-//City of Moultrie - ECPv6.15.20//NONSGML v1.0//EN
CALSCALE:GREGORIAN
METHOD:PUBLISH
X-WR-CALNAME:City of Moultrie
X-ORIGINAL-URL:https://www.moultriega.com
X-WR-CALDESC:Events for City of Moultrie
REFRESH-INTERVAL;VALUE=DURATION:PT1H
X-Robots-Tag:noindex
X-PUBLISHED-TTL:PT1H
BEGIN:VTIMEZONE
TZID:UTC
BEGIN:STANDARD
TZOFFSETFROM:+0000
TZOFFSETTO:+0000
TZNAME:UTC
DTSTART:20190101T000000
END:STANDARD
END:VTIMEZONE
BEGIN:VEVENT
DTSTART;TZID=UTC:20200122T100000
DTEND;TZID=UTC:20200122T101500
DTSTAMP:20260424T000924
CREATED:20200110T191926Z
LAST-MODIFIED:20200110T191926Z
UID:3316-1579687200-1579688100@www.moultriega.com
SUMMARY:Ribbon Cutting Knockout Facials
DESCRIPTION:Knockout Facials \nJanuary 22nd \n10:00am \n22 1st Ave SE \nMoultrie
URL:https://www.moultriega.com/event/ribbon-cutting-knockout-facials/
END:VEVENT
END:VCALENDAR