BEGIN:VCALENDAR
VERSION:2.0
PRODID:-//City of Moultrie - ECPv6.15.20//NONSGML v1.0//EN
CALSCALE:GREGORIAN
METHOD:PUBLISH
X-WR-CALNAME:City of Moultrie
X-ORIGINAL-URL:https://www.moultriega.com
X-WR-CALDESC:Events for City of Moultrie
REFRESH-INTERVAL;VALUE=DURATION:PT1H
X-Robots-Tag:noindex
X-PUBLISHED-TTL:PT1H
BEGIN:VTIMEZONE
TZID:UTC
BEGIN:STANDARD
TZOFFSETFROM:+0000
TZOFFSETTO:+0000
TZNAME:UTC
DTSTART:20180101T000000
END:STANDARD
END:VTIMEZONE
BEGIN:VEVENT
DTSTART;TZID=UTC:20191207T173000
DTEND;TZID=UTC:20191207T200000
DTSTAMP:20260423T205126
CREATED:20190801T172832Z
LAST-MODIFIED:20191003T131226Z
UID:3009-1575739800-1575748800@www.moultriega.com
SUMMARY:Santa Stroll 'n Roll Moultrie Service League
DESCRIPTION:Packet Pick Up/Race Day Registration: 4:30 p.m – 5:30 p.m. \nNativity Stage Show:  5:30 p.m. \nRace 1.7 mile Fun Run/Walk/Stroll:  6:15 p.m. \nFacebook Event Information \n\n 
URL:https://www.moultriega.com/event/santa-stroll-n-roll-moultrie-service-league/
LOCATION:Downtown Moultrie\, MOULTRIE\, GA\, 31776
END:VEVENT
END:VCALENDAR