BEGIN:VCALENDAR
VERSION:2.0
PRODID:-//City of Moultrie - ECPv6.15.20//NONSGML v1.0//EN
CALSCALE:GREGORIAN
METHOD:PUBLISH
X-WR-CALNAME:City of Moultrie
X-ORIGINAL-URL:https://www.moultriega.com
X-WR-CALDESC:Events for City of Moultrie
REFRESH-INTERVAL;VALUE=DURATION:PT1H
X-Robots-Tag:noindex
X-PUBLISHED-TTL:PT1H
BEGIN:VTIMEZONE
TZID:UTC
BEGIN:STANDARD
TZOFFSETFROM:+0000
TZOFFSETTO:+0000
TZNAME:UTC
DTSTART:20230101T000000
END:STANDARD
END:VTIMEZONE
BEGIN:VEVENT
DTSTART;TZID=UTC:20240723T130000
DTEND;TZID=UTC:20240723T140000
DTSTAMP:20260421T122341
CREATED:20240722T143343Z
LAST-MODIFIED:20240722T143343Z
UID:9379-1721739600-1721743200@www.moultriega.com
SUMMARY:Senior Adult Line Dancing at The Arts Center
DESCRIPTION:Tuesday\, July 23 | 1:00-2:00 pm | Supported by Sowega Council on Aging. Call 229.985.1922 or click to register. Free.
URL:https://www.moultriega.com/event/senior-adult-line-dancing-at-the-arts-center-2/
LOCATION:The Arts Center\, 401 7th Avenue S.W.\, Moultrie\, GA\, 31768\, United States
END:VEVENT
END:VCALENDAR