BEGIN:VCALENDAR
VERSION:2.0
PRODID:-//City of Moultrie - ECPv6.15.20//NONSGML v1.0//EN
CALSCALE:GREGORIAN
METHOD:PUBLISH
X-WR-CALNAME:City of Moultrie
X-ORIGINAL-URL:https://www.moultriega.com
X-WR-CALDESC:Events for City of Moultrie
REFRESH-INTERVAL;VALUE=DURATION:PT1H
X-Robots-Tag:noindex
X-PUBLISHED-TTL:PT1H
BEGIN:VTIMEZONE
TZID:UTC
BEGIN:STANDARD
TZOFFSETFROM:+0000
TZOFFSETTO:+0000
TZNAME:UTC
DTSTART:20230101T000000
END:STANDARD
END:VTIMEZONE
BEGIN:VEVENT
DTSTART;TZID=UTC:20240619T150000
DTEND;TZID=UTC:20240619T170000
DTSTAMP:20260423T222720
CREATED:20240612T160701Z
LAST-MODIFIED:20240612T160701Z
UID:9233-1718809200-1718816400@www.moultriega.com
SUMMARY:Senior Adult Painted Shoes at The Arts Center of Moultrie
DESCRIPTION:Senior Adult Painted Shoes\nWednesday\, June 19 | 3:00 – 5:00 pm\n\n\nBring your own pair of shoes to paint! Supported by Sowega Council on Aging/Area Agency on Aging. Call 229.985.1922 or click to register online at MoultrieArts.org. Free.\n\n\n> https://www.moultriearts.org/…/senior-adult-painted-shoes
URL:https://www.moultriega.com/event/senior-adult-painted-shoes-at-the-arts-center-of-moultrie/
LOCATION:The Arts Center\, 401 7th Avenue S.W.\, Moultrie\, GA\, 31768\, United States
END:VEVENT
END:VCALENDAR