BEGIN:VCALENDAR
VERSION:2.0
PRODID:-//City of Moultrie - ECPv6.15.20//NONSGML v1.0//EN
CALSCALE:GREGORIAN
METHOD:PUBLISH
X-WR-CALNAME:City of Moultrie
X-ORIGINAL-URL:https://www.moultriega.com
X-WR-CALDESC:Events for City of Moultrie
REFRESH-INTERVAL;VALUE=DURATION:PT1H
X-Robots-Tag:noindex
X-PUBLISHED-TTL:PT1H
BEGIN:VTIMEZONE
TZID:UTC
BEGIN:STANDARD
TZOFFSETFROM:+0000
TZOFFSETTO:+0000
TZNAME:UTC
DTSTART:20240101T000000
END:STANDARD
END:VTIMEZONE
BEGIN:VEVENT
DTSTART;TZID=UTC:20250404T190000
DTEND;TZID=UTC:20250404T220000
DTSTAMP:20260419T134505
CREATED:20250403T142206Z
LAST-MODIFIED:20250403T142206Z
UID:10557-1743793200-1743804000@www.moultriega.com
SUMMARY:SINGO- 5Piggies Food Truck! at Bandwagon Brewing Company
DESCRIPTION:Feel the Beat\, Know the Beat\, Win with SINGO! FREE TO PLAY!\nIt’s bingo with a beat\, combining your favorite tunes with the classic game we all love. (singing not required). You can jam out\, have fun\, and have a chance to win prizes!\nDoors Open: 4:00 PM\n5 Piggies serving up bites starting at 5 PM!\nRound 1: 7 PMRound 2: 8 PM\nPlay one or play both! Join us this Friday night for SINGO\, where you can jam out\, have fun\, and have a chance to win prizes!
URL:https://www.moultriega.com/event/singo-5piggies-food-truck-at-bandwagon-brewing-company/
LOCATION:Bandwagon Brewing Company\, 33 West Central Ave.\, Moultrie\, GA\, 31768\, United States
END:VEVENT
END:VCALENDAR