BEGIN:VCALENDAR
VERSION:2.0
PRODID:-//City of Moultrie - ECPv6.15.20//NONSGML v1.0//EN
CALSCALE:GREGORIAN
METHOD:PUBLISH
X-WR-CALNAME:City of Moultrie
X-ORIGINAL-URL:https://www.moultriega.com
X-WR-CALDESC:Events for City of Moultrie
REFRESH-INTERVAL;VALUE=DURATION:PT1H
X-Robots-Tag:noindex
X-PUBLISHED-TTL:PT1H
BEGIN:VTIMEZONE
TZID:UTC
BEGIN:STANDARD
TZOFFSETFROM:+0000
TZOFFSETTO:+0000
TZNAME:UTC
DTSTART:20230101T000000
END:STANDARD
END:VTIMEZONE
BEGIN:VEVENT
DTSTART;TZID=UTC:20240127T103000
DTEND;TZID=UTC:20240127T103000
DTSTAMP:20260424T053414
CREATED:20240110T133142Z
LAST-MODIFIED:20240110T133142Z
UID:8726-1706351400-1706351400@www.moultriega.com
SUMMARY:Smarter Search Strategies for Genealogy
DESCRIPTION:Moultrie-Colquitt County Library 204 5th St.\, SE\, Moultrie\, GA \n  \nJoin genealogy author and educator Thomas MacEntee on Saturday\, January 27 at 10:30 at the Moultrie Library for a free virtual workshop to improve your genealogy skills. \nMost genealogists begin their research online and often become frustrated with the lack of results. The cause might not be a lack of records at the specific site but the way you’re performing the search! While basic search techniques work on all the major genealogy sites\, you need to power up your search skills to get the most out of niche genealogy websites and uncover those hidden record sets! \nParticipants will learn basic online searching for the major genealogy websites. We’ll progress to understanding specific search parameters for specific sites. Next\, we’ll discuss whether it is worth the time to track searches as well as how to keep track of all the best ways of searching for a specific site. Finally\, we’ll explore different wildcard characters and search methodology to get the most out of a website. \nThomas MacEntee is a professional genealogist specializing in the use of technology and social media to improve genealogical research and as a means of interacting with others in the family history community. He is a popular national speaker at RootsTech. He is also a blogger\, educator\, author\, social media connector\, and online community builder and has over 42 years of experience researching family history. Thomas somehow “fell” into the technology industry almost 40 years ago\, leaving a lucrative career in information technology to pursue his love of family history and genealogy. \nFor more information\, call the library at 229-985-6540 or email amcnair@mccls.org. Reservations are not required but are appreciated so we
URL:https://www.moultriega.com/event/smarter-search-strategies-for-genealogy/
LOCATION:Moultrie-Colquitt County Library System\, 204 5th St SE\, Moultrie\, GA\, 31768\, United States
END:VEVENT
END:VCALENDAR