BEGIN:VCALENDAR
VERSION:2.0
PRODID:-//City of Moultrie - ECPv6.15.20//NONSGML v1.0//EN
CALSCALE:GREGORIAN
METHOD:PUBLISH
X-WR-CALNAME:City of Moultrie
X-ORIGINAL-URL:https://www.moultriega.com
X-WR-CALDESC:Events for City of Moultrie
REFRESH-INTERVAL;VALUE=DURATION:PT1H
X-Robots-Tag:noindex
X-PUBLISHED-TTL:PT1H
BEGIN:VTIMEZONE
TZID:UTC
BEGIN:STANDARD
TZOFFSETFROM:+0000
TZOFFSETTO:+0000
TZNAME:UTC
DTSTART:20240101T000000
END:STANDARD
END:VTIMEZONE
BEGIN:VEVENT
DTSTART;TZID=UTC:20250327T190000
DTEND;TZID=UTC:20250327T190000
DTSTAMP:20260423T174510
CREATED:20250325T191717Z
LAST-MODIFIED:20250325T191717Z
UID:10503-1743102000-1743102000@www.moultriega.com
SUMMARY:Spingo Bingo Night at the Speakeasy on Main
DESCRIPTION:Spingo Bingo Night
URL:https://www.moultriega.com/event/spingo-bingo-night-at-the-speakeasy-on-main-4/
END:VEVENT
END:VCALENDAR