BEGIN:VCALENDAR
VERSION:2.0
PRODID:-//City of Moultrie - ECPv6.15.20//NONSGML v1.0//EN
CALSCALE:GREGORIAN
METHOD:PUBLISH
X-WR-CALNAME:City of Moultrie
X-ORIGINAL-URL:https://www.moultriega.com
X-WR-CALDESC:Events for City of Moultrie
REFRESH-INTERVAL;VALUE=DURATION:PT1H
X-Robots-Tag:noindex
X-PUBLISHED-TTL:PT1H
BEGIN:VTIMEZONE
TZID:UTC
BEGIN:STANDARD
TZOFFSETFROM:+0000
TZOFFSETTO:+0000
TZNAME:UTC
DTSTART:20230101T000000
END:STANDARD
END:VTIMEZONE
BEGIN:VEVENT
DTSTART;TZID=UTC:20241017T083000
DTEND;TZID=UTC:20241017T160000
DTSTAMP:20260424T164501
CREATED:20241001T185955Z
LAST-MODIFIED:20241001T185955Z
UID:9726-1729153800-1729180800@www.moultriega.com
SUMMARY:Sunbelt AG EXPO
DESCRIPTION:We wanted to share that we are having the Expo as originally planned\, so we look forward to seeing you October 15-17 here in Moultrie\, Georgia!
URL:https://www.moultriega.com/event/sunbelt-ag-expo-10/
LOCATION:SunBelt Expo\, 290-G Harper Blvd\, Moultrie\, GA\, 31788
END:VEVENT
END:VCALENDAR