BEGIN:VCALENDAR
VERSION:2.0
PRODID:-//City of Moultrie - ECPv6.15.20//NONSGML v1.0//EN
CALSCALE:GREGORIAN
METHOD:PUBLISH
X-WR-CALNAME:City of Moultrie
X-ORIGINAL-URL:https://www.moultriega.com
X-WR-CALDESC:Events for City of Moultrie
REFRESH-INTERVAL;VALUE=DURATION:PT1H
X-Robots-Tag:noindex
X-PUBLISHED-TTL:PT1H
BEGIN:VTIMEZONE
TZID:UTC
BEGIN:STANDARD
TZOFFSETFROM:+0000
TZOFFSETTO:+0000
TZNAME:UTC
DTSTART:20180101T000000
END:STANDARD
END:VTIMEZONE
BEGIN:VEVENT
DTSTART;TZID=UTC:20191215T130000
DTEND;TZID=UTC:20191215T170000
DTSTAMP:20260424T001757
CREATED:20190911T154854Z
LAST-MODIFIED:20190912T132426Z
UID:3130-1576414800-1576429200@www.moultriega.com
SUMMARY:Sundays In December
DESCRIPTION:Participating merchants in Downtown Moultrie \nWill be open on Sundays in December. Times and participation \nvaries. Check Facebook for participating shops.
URL:https://www.moultriega.com/event/sundays-in-december-3/
LOCATION:Downtown Moultrie\, MOULTRIE\, GA\, 31776
END:VEVENT
END:VCALENDAR