BEGIN:VCALENDAR
VERSION:2.0
PRODID:-//City of Moultrie - ECPv6.15.20//NONSGML v1.0//EN
CALSCALE:GREGORIAN
METHOD:PUBLISH
X-WR-CALNAME:City of Moultrie
X-ORIGINAL-URL:https://www.moultriega.com
X-WR-CALDESC:Events for City of Moultrie
REFRESH-INTERVAL;VALUE=DURATION:PT1H
X-Robots-Tag:noindex
X-PUBLISHED-TTL:PT1H
BEGIN:VTIMEZONE
TZID:UTC
BEGIN:STANDARD
TZOFFSETFROM:+0000
TZOFFSETTO:+0000
TZNAME:UTC
DTSTART:20230101T000000
END:STANDARD
END:VTIMEZONE
BEGIN:VEVENT
DTSTART;TZID=UTC:20240622T130000
DTEND;TZID=UTC:20240622T221500
DTSTAMP:20260423T222613
CREATED:20240620T131813Z
LAST-MODIFIED:20240620T131813Z
UID:9243-1719061200-1719094500@www.moultriega.com
SUMMARY:The ShiffTones & Lobster Dogs at Bandwagon Brewing Company
DESCRIPTION:Saturday\, June 22 The StiffTones and Lobster Dogs both return! Lobster Dogs will start serving at 1 PM. The live music begins at 7 PM.\nThe StiffTones\, a band whose sound is a unique fusion of influences\, blending the essence of Fleetwood Mac and The Rolling Stones into something entirely their own. Hailing from the heartland\, their music embodies a captivating mix of Midwest meets Bakersfield country\, Inland Empire-inspired Punk\, East Coast flair\, and a healthy dose of good ol’ Rock and Roll\, all wrapped in a spellbinding aura.\nDescribing themselves as real-life traveling bards\, The StiffTones are led by Shaun and Rachel Stief\, a dynamic duo who embarked on a bold adventure after their children flew the nest. With Rachel’s background as a registered nurse of two decades and their shared experience of raising five daughters\, they decided to embrace a new chapter of their lives. As Gen X’ers shaped by the likes of Sesame Street\, nuclear drills\, and Saturday Night Live\, they made a radical choice: giving away their possessions\, purchasing a 1996 Cadillac Hearse named Tania\, and hitting the road with their trusty canine companions.\nFor over four years and spanning more than 100\,000 miles\, The StiffTones have journeyed from coast to coast\, north to south\, leaving their mark on stages in countless cities across the nation. Through their tireless touring\, they’ve honed their sound\, cultivated their brand\, and welcomed new members into their extended family. Their music carries the scent of the wind\, dust\, sun\, and moon\, weaving tales and gypsy’s warnings into melodies that resonate with audiences far and wide.\nJoin The StiffTones on a rock n’ roll devival unlike any other\, where American music’s spirit thrives\, and storytelling’s magic comes alive through the power of song.
URL:https://www.moultriega.com/event/the-shifftones-lobster-dogs-at-bandwagon-brewing-company/
LOCATION:Bandwagon Brewing Company\, 33 West Central Ave.\, Moultrie\, GA\, 31768\, United States
END:VEVENT
END:VCALENDAR