BEGIN:VCALENDAR
VERSION:2.0
PRODID:-//City of Moultrie - ECPv6.15.20//NONSGML v1.0//EN
CALSCALE:GREGORIAN
METHOD:PUBLISH
X-WR-CALNAME:City of Moultrie
X-ORIGINAL-URL:https://www.moultriega.com
X-WR-CALDESC:Events for City of Moultrie
REFRESH-INTERVAL;VALUE=DURATION:PT1H
X-Robots-Tag:noindex
X-PUBLISHED-TTL:PT1H
BEGIN:VTIMEZONE
TZID:UTC
BEGIN:STANDARD
TZOFFSETFROM:+0000
TZOFFSETTO:+0000
TZNAME:UTC
DTSTART:20240101T000000
END:STANDARD
END:VTIMEZONE
BEGIN:VEVENT
DTSTART;TZID=UTC:20250522T160000
DTEND;TZID=UTC:20250522T210000
DTSTAMP:20260424T024931
CREATED:20250522T164822Z
LAST-MODIFIED:20250522T164822Z
UID:10817-1747929600-1747947600@www.moultriega.com
SUMMARY:Trivia Night with Crave Hot Dog & BBQ Food Truck at Bandwagon Brewing Company
DESCRIPTION:Trivia with Prizes!  Food Truck Crave Hot Dog & BBQ
URL:https://www.moultriega.com/event/trivia-night-with-crave-hot-dog-bbq-food-truck-at-bandwagon-brewing-company/
LOCATION:Bandwagon Brewing Company\, 33 West Central Ave.\, Moultrie\, GA\, 31768\, United States
END:VEVENT
END:VCALENDAR