BEGIN:VCALENDAR
VERSION:2.0
PRODID:-//City of Moultrie - ECPv6.15.20//NONSGML v1.0//EN
CALSCALE:GREGORIAN
METHOD:PUBLISH
X-WR-CALNAME:City of Moultrie
X-ORIGINAL-URL:https://www.moultriega.com
X-WR-CALDESC:Events for City of Moultrie
REFRESH-INTERVAL;VALUE=DURATION:PT1H
X-Robots-Tag:noindex
X-PUBLISHED-TTL:PT1H
BEGIN:VTIMEZONE
TZID:UTC
BEGIN:STANDARD
TZOFFSETFROM:+0000
TZOFFSETTO:+0000
TZNAME:UTC
DTSTART:20230101T000000
END:STANDARD
END:VTIMEZONE
BEGIN:VEVENT
DTSTART;TZID=UTC:20241027T173000
DTEND;TZID=UTC:20241027T190000
DTSTAMP:20260422T134107
CREATED:20241021T135005Z
LAST-MODIFIED:20241021T135005Z
UID:9790-1730050200-1730055600@www.moultriega.com
SUMMARY:Trunk or Treat at First Baptist Church of Moultrie
DESCRIPTION:
URL:https://www.moultriega.com/event/trunk-or-treat-at-first-baptist-church-of-moultrie/
LOCATION:First Baptist Church Moultrie\, 400 South Main Street\, Moultrie\, GA\, 31768\, United States
END:VEVENT
END:VCALENDAR