BEGIN:VCALENDAR
VERSION:2.0
PRODID:-//City of Moultrie - ECPv6.15.20//NONSGML v1.0//EN
CALSCALE:GREGORIAN
METHOD:PUBLISH
X-WR-CALNAME:City of Moultrie
X-ORIGINAL-URL:https://www.moultriega.com
X-WR-CALDESC:Events for City of Moultrie
REFRESH-INTERVAL;VALUE=DURATION:PT1H
X-Robots-Tag:noindex
X-PUBLISHED-TTL:PT1H
BEGIN:VTIMEZONE
TZID:UTC
BEGIN:STANDARD
TZOFFSETFROM:+0000
TZOFFSETTO:+0000
TZNAME:UTC
DTSTART:20230101T000000
END:STANDARD
END:VTIMEZONE
BEGIN:VEVENT
DTSTART;TZID=UTC:20240615T150000
DTEND;TZID=UTC:20240615T150000
DTSTAMP:20260425T204732
CREATED:20240604T173159Z
LAST-MODIFIED:20240604T173159Z
UID:9195-1718463600-1718463600@www.moultriega.com
SUMMARY:USCS Sprint Car Series & Kids Bicycle\, Powerwheels\, and Foot Races at Needmore Speedway
DESCRIPTION:High horsepower cars wont be the only ones hitting the track Saturday June 15th. KIDS  Bicycle races\,  Powerwheels races and foot races will take place during intermission next weekend.\n\n\nParents make sure you bring the kids out so they can join in on the races too\, and dont forget KIDS 12 and UNDER ARE FREE!!!! We look forward to seeing everyone next weekend for the return of the USCS Sprint Car Series.\n\n   
URL:https://www.moultriega.com/event/uscs-sprint-car-series-kids-bicycle-powerwheels-and-foot-races-at-needmore-speedway/
LOCATION:Needmore Speedway\, 1060 John Vickers Rd\, Norman Park\, GA\, 31771\, United States
END:VEVENT
END:VCALENDAR