BEGIN:VCALENDAR
VERSION:2.0
PRODID:-//City of Moultrie - ECPv6.15.20//NONSGML v1.0//EN
CALSCALE:GREGORIAN
METHOD:PUBLISH
X-WR-CALNAME:City of Moultrie
X-ORIGINAL-URL:https://www.moultriega.com
X-WR-CALDESC:Events for City of Moultrie
REFRESH-INTERVAL;VALUE=DURATION:PT1H
X-Robots-Tag:noindex
X-PUBLISHED-TTL:PT1H
BEGIN:VTIMEZONE
TZID:UTC
BEGIN:STANDARD
TZOFFSETFROM:+0000
TZOFFSETTO:+0000
TZNAME:UTC
DTSTART:20240101T000000
END:STANDARD
END:VTIMEZONE
BEGIN:VEVENT
DTSTART;TZID=UTC:20250314T130000
DTEND;TZID=UTC:20250314T160000
DTSTAMP:20260425T220454
CREATED:20250227T144650Z
LAST-MODIFIED:20250227T144650Z
UID:10385-1741957200-1741968000@www.moultriega.com
SUMMARY:Wicked Sign-Along & Viewing Party Matinee at The Arts Center
DESCRIPTION:Friday\, March 141:00 pm & 7:00 pm show timesAges 3+ (Rated PG) | $5The Arts Center of Moultrie’s Historic Theater\nCalling all Wicked fans! Get ready to belt out your favorite tunes\, embrace the magic\, and immerse yourself in the world of Oz.\nDress in your best Wicked costume—whether you’re channeling Elphaba\, Glinda\, or any other Ozian character—and you could win a fabulous prize! Everyone who wears a costume will be entered into a raffle for a chance to win something wicked! Come for the music\, stay for the magic\, and let’s sing our hearts out together! Costumes encouraged—because no one mourns the wicked!\nRated PGRun Time: 2 hours\, 40 minutes\nTickets at https://www.moultriearts.org/…/wicked-sing-along…
URL:https://www.moultriega.com/event/wicked-sign-along-viewing-party-matinee-at-the-arts-center/
LOCATION:The Arts Center\, 401 7th Avenue S.W.\, Moultrie\, GA\, 31768\, United States
END:VEVENT
END:VCALENDAR