BEGIN:VCALENDAR
VERSION:2.0
PRODID:-//City of Moultrie - ECPv6.15.20//NONSGML v1.0//EN
CALSCALE:GREGORIAN
METHOD:PUBLISH
X-WR-CALNAME:City of Moultrie
X-ORIGINAL-URL:https://www.moultriega.com
X-WR-CALDESC:Events for City of Moultrie
REFRESH-INTERVAL;VALUE=DURATION:PT1H
X-Robots-Tag:noindex
X-PUBLISHED-TTL:PT1H
BEGIN:VTIMEZONE
TZID:UTC
BEGIN:STANDARD
TZOFFSETFROM:+0000
TZOFFSETTO:+0000
TZNAME:UTC
DTSTART:20240101T000000
END:STANDARD
END:VTIMEZONE
BEGIN:VEVENT
DTSTART;TZID=UTC:20250609T080000
DTEND;TZID=UTC:20250613T170000
DTSTAMP:20260426T020413
CREATED:20250522T144115Z
LAST-MODIFIED:20250522T144115Z
UID:10801-1749456000-1749834000@www.moultriega.com
SUMMARY:Youth Summer Camp: Architecture of Antoni Gaudi at The Arts Center
DESCRIPTION:REGISTRATION OPENS MARCH 1\, 2025.Presented by United Way of Colquitt County.\nArchitecture of Antoni Gaudi | June 9 – 13 – Campers will be introduced to the Spanish architect Antoni Gaudi and learn about his famous works. During this camp we will create architectural designs in multiple mediums referencing those works.\nInstructor: Kathy NelsonDates: Monday – FridayTime: 8:00 am – 5:00 pmAges: Rising 3rd – Rising 6th GradersFee: $100 per camper\nScholarships are available for those who need financial assistance. Please email finance@moultriearts.org for more information.\nCamps include morning and afternoon instruction in art\, music\, theater\, and pottery. Campers will go to the MCCPRA pool to swim Wednesday afternoon. Please bring lunch and a water bottle. Snack will be provided\, but campers may bring an additional snack\, if desired.\nDaily Schedule:\nEarly Arrival (must be approved) – 7:45 amStandard Arrival – 8:00 amClass Instruction Begins – 9:00 amLunch – 12:00 pmSnack – 3:00 pmPickup – 4:00 – 5:00 pm\nCamp registration closes at midnight on the Thursday before camp begins. Please contact us at 229-985-1922 if you need assistance.\nRegister at https://www.moultriearts.org/camps.
URL:https://www.moultriega.com/event/youth-summer-camp-architecture-of-antoni-gaudi-at-the-arts-center/
LOCATION:The Arts Center\, 401 7th Avenue S.W.\, Moultrie\, GA\, 31768\, United States
END:VEVENT
END:VCALENDAR