BEGIN:VCALENDAR
VERSION:2.0
PRODID:-//City of Moultrie - ECPv6.15.20//NONSGML v1.0//EN
CALSCALE:GREGORIAN
METHOD:PUBLISH
X-WR-CALNAME:City of Moultrie
X-ORIGINAL-URL:https://www.moultriega.com
X-WR-CALDESC:Events for City of Moultrie
REFRESH-INTERVAL;VALUE=DURATION:PT1H
X-Robots-Tag:noindex
X-PUBLISHED-TTL:PT1H
BEGIN:VTIMEZONE
TZID:UTC
BEGIN:STANDARD
TZOFFSETFROM:+0000
TZOFFSETTO:+0000
TZNAME:UTC
DTSTART:20180101T000000
END:STANDARD
END:VTIMEZONE
BEGIN:VEVENT
DTSTART;TZID=UTC:20190716T100000
DTEND;TZID=UTC:20190716T103000
DTSTAMP:20260423T202045
CREATED:20190701T142135Z
LAST-MODIFIED:20190701T142135Z
UID:2980-1563271200-1563273000@www.moultriega.com
SUMMARY:Ribbon Cutting Rocco's Italian Street Food
DESCRIPTION:1936 S Main Street\nMoultrie
URL:https://www.moultriega.com/event/ribbon-cutting-roccos-italian-street-food/
LOCATION:GA
END:VEVENT
BEGIN:VEVENT
DTSTART;TZID=UTC:20190716T180000
DTEND;TZID=UTC:20190716T190000
DTSTAMP:20260423T202045
CREATED:20190513T185551Z
LAST-MODIFIED:20190513T194200Z
UID:2887-1563300000-1563303600@www.moultriega.com
SUMMARY:City Council Meeting
DESCRIPTION:
URL:https://www.moultriega.com/event/city-council-meeting-43/
LOCATION:City Council Room\, 21 1st Avenue NE\, Moultrie\, GA\, 31768\, United States
END:VEVENT
END:VCALENDAR