BEGIN:VCALENDAR
VERSION:2.0
PRODID:-//City of Moultrie - ECPv6.15.20//NONSGML v1.0//EN
CALSCALE:GREGORIAN
METHOD:PUBLISH
X-ORIGINAL-URL:https://www.moultriega.com
X-WR-CALDESC:Events for City of Moultrie
REFRESH-INTERVAL;VALUE=DURATION:PT1H
X-Robots-Tag:noindex
X-PUBLISHED-TTL:PT1H
BEGIN:VTIMEZONE
TZID:UTC
BEGIN:STANDARD
TZOFFSETFROM:+0000
TZOFFSETTO:+0000
TZNAME:UTC
DTSTART:20210101T000000
END:STANDARD
END:VTIMEZONE
BEGIN:VEVENT
DTSTART;TZID=UTC:20220814T090000
DTEND;TZID=UTC:20220814T110000
DTSTAMP:20260421T080022
CREATED:20220808T124933Z
LAST-MODIFIED:20220808T124933Z
UID:6434-1660467600-1660474800@www.moultriega.com
SUMMARY:🐾 Photo Scavenger Hunt 🐾 Reed Bingham State Park
DESCRIPTION:Photo Scavenger Hunt \n Sunday\, August 14th\, 9am to 11am\n $5.00 per team + $5.00 parking\n Bring your camera and embark on this epic hunt! You can work in teams of 5\, so bring the whole family!\n Items must be found in the park and photographed to be the winner.\n A prize (free 1 hour kayak rental) will be awarded to the team that finishes first.\n Register at the Visitor Center and get your item list from the Park Ranger at the Stage.\n Visit or call the park for questions. 229-896-3551
URL:https://www.moultriega.com/event/%f0%9f%90%be-photo-scavenger-hunt-%f0%9f%90%be-reed-bingham-state-park/
LOCATION:GA
END:VEVENT
END:VCALENDAR